{
 "currentVersion": 11.4,
 "cimVersion": "3.4.0",
 "serviceDescription": "",
 "mapName": "Map",
 "description": "",
 "copyrightText": "Bundesamt für Meteorologie und Klimatologie MeteoSchweiz",
 "supportsDynamicLayers": false,
 "layers": [
  {
   "id": 0,
   "name": "Hagelgefährdung auf Referenzfläche 100 m2: Korngrösse mit Wiederkehrperiode 50 Jahre",
   "parentLayerId": -1,
   "defaultVisibility": true,
   "subLayerIds": null,
   "minScale": 0,
   "maxScale": 0,
   "type": "Feature Layer",
   "geometryType": "esriGeometryPolygon",
   "supportsDynamicLegends": true
  }
 ],
 "tables": [],
 "spatialReference": {
  "wkid": 2056,
  "latestWkid": 2056,
  "xyTolerance": 0.001,
  "zTolerance": 0.001,
  "mTolerance": 0.001,
  "falseX": -27386400,
  "falseY": -32067900,
  "xyUnits": 10000,
  "falseZ": -100000,
  "zUnits": 10000,
  "falseM": -100000,
  "mUnits": 10000
 },
 "singleFusedMapCache": true,
 "tileInfo": {
  "rows": 256,
  "cols": 256,
  "dpi": 96,
  "format": "PNG",
  "compressionQuality": 0,
  "origin": {
   "x": -27386400,
   "y": 31814500
  },
  "spatialReference": {
   "wkid": 2056,
   "latestWkid": 2056,
   "xyTolerance": 0.001,
   "zTolerance": 0.001,
   "mTolerance": 0.001,
   "falseX": -27386400,
   "falseY": -32067900,
   "xyUnits": 10000,
   "falseZ": -100000,
   "zUnits": 10000,
   "falseM": -100000,
   "mUnits": 10000
  },
  "lods": [
   {
    "level": 0,
    "resolution": 650.0015875031751,
    "scale": 2456694
   },
   {
    "level": 1,
    "resolution": 500.00132291931254,
    "scale": 1889765
   },
   {
    "level": 2,
    "resolution": 250.000529167725,
    "scale": 944882
   },
   {
    "level": 3,
    "resolution": 100.0002645838625,
    "scale": 377953
   },
   {
    "level": 4,
    "resolution": 50,
    "scale": 188976
   },
   {
    "level": 5,
    "resolution": 20.000158750317503,
    "scale": 75591
   },
   {
    "level": 6,
    "resolution": 9.9999470832275,
    "scale": 37795
   },
   {
    "level": 7,
    "resolution": 5.000105833545001,
    "scale": 18898
   },
   {
    "level": 8,
    "resolution": 2.5000529167725003,
    "scale": 9449
   },
   {
    "level": 9,
    "resolution": 1.9999894166455001,
    "scale": 7559
   },
   {
    "level": 10,
    "resolution": 1.0001270002540006,
    "scale": 3780
   },
   {
    "level": 11,
    "resolution": 0.5000635001270003,
    "scale": 1890
   },
   {
    "level": 12,
    "resolution": 0.25003175006350015,
    "scale": 945
   },
   {
    "level": 13,
    "resolution": 0.10001270002540005,
    "scale": 378
   }
  ]
 },
 "storageInfo": {
  "storageFormat": "esriMapCacheStorageModeCompactV2",
  "packetSize": 128
 },
 "initialExtent": {
  "xmin": 2579024.9418918802,
  "ymin": 1086678.421092326,
  "xmax": 2776079.9666374004,
  "ymax": 1280452.6129596692,
  "spatialReference": {
   "wkid": 2056,
   "latestWkid": 2056,
   "xyTolerance": 0.001,
   "zTolerance": 0.001,
   "mTolerance": 0.001,
   "falseX": -27386400,
   "falseY": -32067900,
   "xyUnits": 10000,
   "falseZ": -100000,
   "zUnits": 10000,
   "falseM": -100000,
   "mUnits": 10000
  }
 },
 "fullExtent": {
  "xmin": 2556240.840999998,
  "ymin": 1130584.9649999999,
  "xmax": 2677745.3649999984,
  "ymax": 1243834.789999999,
  "zmin": 0,
  "zmax": 4274.210000000006,
  "spatialReference": {
   "wkid": 2056,
   "latestWkid": 2056,
   "xyTolerance": 0.001,
   "zTolerance": 0.001,
   "mTolerance": 0.001,
   "falseX": -27386400,
   "falseY": -32067900,
   "xyUnits": 10000,
   "falseZ": -100000,
   "zUnits": 10000,
   "falseM": -100000,
   "mUnits": 10000
  }
 },
 "datesInUnknownTimezone": false,
 "minScale": 2456694,
 "maxScale": 945,
 "minLOD": 0,
 "maxLOD": 12,
 "units": "esriMeters",
 "supportedImageFormatTypes": "PNG32,PNG24,PNG,JPG,DIB,TIFF,EMF,PS,PDF,GIF,SVG,SVGZ,BMP",
 "documentInfo": {
  "Title": "Map",
  "Author": "",
  "Comments": "",
  "Subject": "",
  "Category": "",
  "Version": "3.2.0",
  "AntialiasingMode": "Fast",
  "TextAntialiasingMode": "Force",
  "Keywords": "Hagel,Hagelgefährdung,Korngrössen,LEHA,LEHA100,Wiederkehrperiode,50 Jahre"
 },
 "supportsQueryDomains": true,
 "capabilities": "Map,Query,Data",
 "supportedQueryFormats": "JSON, geoJSON, PBF",
 "exportTilesAllowed": false,
 "referenceScale": 0.0,
 "datumTransformations": [
  {
   "geoTransforms": [
    {
     "wkid": 1676,
     "latestWkid": 1676,
     "transformForward": false,
     "name": "CH1903+_To_WGS_1984_1"
    }
   ]
  },
  {
   "geoTransforms": [
    {
     "wkid": 1676,
     "latestWkid": 1676,
     "transformForward": true,
     "name": "CH1903+_To_WGS_1984_1"
    }
   ]
  }
 ],
 "supportsDatumTransformation": true,
 "archivingInfo": {
  "supportsHistoricMoment": false
 },
 "supportsClipping": true,
 "supportsSpatialFilter": true,
 "supportsTimeRelation": true,
 "supportsQueryDataElements": true,
 "mapUnits": {
  "uwkid": 9001
 },
 "maxSelectionCount": 2000,
 "maxRecordCount": 2000,
 "maxImageHeight": 4096,
 "maxImageWidth": 4096,
 "supportedExtensions": "",
 "resampling": false,
 "serviceItemId": "ade50f759af14092ae332171ebba422a"
}
